<?xml version="1.0" encoding="ISO-8859-1"?>
<metadata>
  <idinfo>
    <citation>
      <citeinfo>
        <origin>
          Avineon, Inc.
        </origin>
        <origin>
          NOAA/NMFS/Southeast Regional Office - PI Jocelyn Karazsia
        </origin>
        <pubdate>
          Unpublished Material
        </pubdate>
        <title>
          2007 Palm Beach County Orthorectified photos of the County&apos;s estuarine waters including the Lake Worth Lagoon. Used for mapping essential fish habitat (NODC Accession 0061752)
        </title>
        <edition>
          (Version 8.3, September 29, 2005)
        </edition>
        <geoform>
          remote-sensing image
        </geoform>
        <pubinfo>
          <pubplace>
            Clearwater, FL
          </pubplace>
          <publish>
            Avineon, Inc.
          </publish>
        </pubinfo>
        <onlink>
          http://data.nodc.noaa.gov/coris/data/NOAA/nmfs/sefsc/PBC_LWL_Habitat_Mapping_Project/
        </onlink>
        <onlink>
          http://data.nodc.noaa.gov/accession/0061752
        </onlink>
      </citeinfo>
    </citation>
    <descript>
      <abstract>
        2007 Palm Beach County Mapping Digital Orthorectified photos and Mosaics of  1:10000 scale natural color aerial photography were created.  Imagery was flown on June 20 &amp; 22, July 21, and August 4 &amp; 8, 2007.  Additionally, there was 1:4800 scale natural color aerial photography flown on July 1, 2007.  The imagery that was flown on June 20 &amp; 22, July 21, and August 4, 2007 included the ICW and Lake Worth Lagoon system throughout Palm Beach County south of Jupiter Inlet.  The imagery that was flown on August 8, 2007 was for the area around Jupiter Inlet and southern Jupiter Sound.  The 1:4800 scale imagery flown July 1, 2007 covered the mouth of the Loxahatchee River and west around the start of the Lake Worth Creek.  Photograpy  for the project was orthorectified on Avineon&apos;s ImageStation Stereo software; an aerotriangulation solution was computed across the project area, using ImageStation Automatic Triangulation (ISAT) software issued by Z/I Imaging, Inc. Utilizing GPS coordinates of the center of photography, camera calibration reports and the raw scans of photography, ISAT created a solution that meets the National Map Accuracy Standards for 1:24,000 scale maps. The GPS photo centerpoint data and existing ground control was utilized as the control for creation of the aerotriangulation solution. Upon completion of the aerotriangulation solution, checkpoints were derived from USGS DOQQs to check the spatial accuracy of the triangulation solution.

Upon completion and quality assurance acceptance of the aerotriangulation solution, the adjusted control points and camera orientation parameters were used to set up the stereo models for photointerpretation within soft copy photogrammetric workstations.

Raw images were color balanced using I/RASC and a new look-up table was applied to images before saving to a new file.  This balance process was completed to correct a green saturation that occured during the scanning process.

The orthophotography process was performed using an automated batch process. By using the raw imagery in combination with the aerotriangulation results described above, our softcopy system generated a digital ortho to a specified pixel size.  Two copies of orthos were produced, pixel resolution was set at 1/2 foot and two feet.
      </abstract>
      <purpose>
        A major objective of the Lake Worth Lagoon Management Plan is to restore, preserve and create seagrass beds, oyster bars and other submerged benthic habitat.  Aerial surveys will enable Palm Beach County Department of Environmental Resources Management to determine the aerial extent of seagrass beds, mangrove habitat, oyster reefs, and spartina within the Lake Worth Lagoon and Intracoastal Waterway, while the fixed transect survey will reveal whether selected seagrass beds are stable, expanding or receding.
      </purpose>
    </descript>
    <timeperd>
      <timeinfo>
        <mdattim>
          <sngdate>
            <caldate>
              20070620
            </caldate>
            <time>
              unknown
            </time>
          </sngdate>
          <sngdate>
            <caldate>
              20070622
            </caldate>
            <time>
              unknown
            </time>
          </sngdate>
          <sngdate>
            <caldate>
              20070701
            </caldate>
            <time>
              unknown
            </time>
          </sngdate>
          <sngdate>
            <caldate>
              20070721
            </caldate>
            <time>
              unknown
            </time>
          </sngdate>
          <sngdate>
            <caldate>
              20070804
            </caldate>
            <time>
              unknown
            </time>
          </sngdate>
          <sngdate>
            <caldate>
              20070808
            </caldate>
            <time>
              unknown
            </time>
          </sngdate>
        </mdattim>
      </timeinfo>
      <current>
        Source photography date
      </current>
    </timeperd>
    <status>
      <progress>
        Complete
      </progress>
      <update>
        As needed
      </update>
    </status>
    <spdom>
      <bounding>
        <westbc>
          -80.219680
        </westbc>
        <eastbc>
          -80.191116
        </eastbc>
        <northbc>
          27.283799
        </northbc>
        <southbc>
          27.258283
        </southbc>
      </bounding>
    </spdom>
    <keywords>
      <theme>
        <themekt>
          ISO 19115 Topic Category
        </themekt>
        <themekey>
          imageryBaseMapsEarthCover
        </themekey>
        <themekey>
          010
        </themekey>
      </theme>
      <theme>
        <themekt>
          CoRIS Discovery Thesaurus
        </themekt>
        <themekey>
          Map Images &gt; Aerial Photographs
        </themekey>
      </theme>
      <theme>
        <themekt>
          CoRIS Theme Thesaurus
        </themekt>
        <themekey>
          EARTH SCIENCE &gt; Biosphere &gt; Zoology &gt; Corals &gt; Reef Monitoring and Assessment &gt; Mapping &gt; Base map &gt; Aerial Photography
        </themekey>
      </theme>
      <theme>
        <themekt>
          none
        </themekt>
        <themekey>
          seagrass
        </themekey>
        <themekey>
          SAV
        </themekey>
        <themekey>
          benthic habitat
        </themekey>
        <themekey>
          submerged aquatic vegetation
        </themekey>
        <themekey>
          Ortho
        </themekey>
        <themekey>
          Mosaic
        </themekey>
        <themekey>
          Aerial Photography
        </themekey>
        <themekey>
          2007
        </themekey>
        <themekey>
          mangrove
        </themekey>
        <themekey>
          spartina
        </themekey>
        <themekey>
          oyster
        </themekey>
      </theme>
      <place>
        <placekt>
          None
        </placekt>
        <placekey>
          Lake Worth Lagoon
        </placekey>
        <placekey>
          ICW
        </placekey>
        <placekey>
          Palm Beach County
        </placekey>
      </place>
      <place>
        <placekt>
          CoRIS Place Thesaurus
        </placekt>
        <placekey>
          COUNTRY/TERRITORY &gt; United States of America &gt; Florida
        </placekey>
        <placekey>
          OCEAN BASIN &gt; Atlantic Ocean &gt; North Atlantic Ocean &gt; Florida
        </placekey>
      </place>
      <place>
        <placekt>
          CoRIS Region
        </placekt>
        <placekey>
          Florida
        </placekey>
      </place>
    </keywords>
    <accconst>
      None
    </accconst>
    <useconst>
      Acknowledgement of Avineon Inc. would be appreciated in products derived from this data.  The positional accuracy of this data meets USGS NMAS for 1:24000 scale maps (+/- 40 feet).
    </useconst>
    <ptcontac>
      <cntinfo>
        <cntperp>
          <cntper>
            Keith Patterson
          </cntper>
          <cntorg>
            Avineon, Inc.
          </cntorg>
        </cntperp>
        <cntpos>
          Director- Photogrammetry, Mapping,  GIS
        </cntpos>
        <cntaddr>
          <addrtype>
            mailing address
          </addrtype>
          <address>
            15500 Lightwave Drive, Suite 200
          </address>
          <city>
            Clearwater
          </city>
          <state>
            FL
          </state>
          <postal>
            33760
          </postal>
          <country>
            United States of America
          </country>
        </cntaddr>
        <cntvoice>
          (727)539-1661
        </cntvoice>
        <cntfax>
          (727)539-6954
        </cntfax>
        <cntemail>
          kpatterson@avineon.com
        </cntemail>
        <hours>
          9:00AM to 5:00PM
        </hours>
      </cntinfo>
    </ptcontac>
    <datacred>
      Avineon Inc. Orthorectification Staff-  Daniel Bubser, Joseph Muller, Scott Goodwyn
Palm Beach County- Eric Anderson
    </datacred>
    <secinfo>
      <secsys>
        Unknown
      </secsys>
      <secclass>
        Unclassified
      </secclass>
      <sechandl>
        Unknown
      </sechandl>
    </secinfo>
    <native>
      Microsoft Windows 2000 Version 5.1 (Build 2600) Service Pack 2; ESRI ArcCatalog 8.3.0.800
    </native>
    <crossref>
      <citeinfo>
        <origin>
          Unknown
        </origin>
        <pubdate>
          Unknown
        </pubdate>
        <title>
          2007 Lake Worth Lagoon Mapping Project
        </title>
      </citeinfo>
    </crossref>
  </idinfo>
  <dataqual>
    <logic>
      Upon receipt of the aerial photography, Avineon inspected it for tonal balance and contrast, completeness, signature appearance and scale prior to acceptance.
    </logic>
    <complete>
      Not reported
    </complete>
    <posacc>
      <horizpa>
        <horizpar>
          Existing ground controlpoints were used from previous mapping efforts.  These points included both GPS survey points and control points collected from USGS 1m DOQQ&apos;s. Horizontal positional accuracy of the data meets NMAS for 1:24000 scale maps, approximately +/- 40 feet.  The digital photography was reviewed over USGS DOQQ&apos;s.  GPS points were also collected during field work at well defined features and compared against coordinates for the same features on the photography.
        </horizpar>
      </horizpa>
    </posacc>
    <lineage>
      <srcinfo>
        <srccite>
          <citeinfo>
            <origin>
              US Imaging
            </origin>
            <pubdate>
              Unknown
            </pubdate>
            <title>
              Lake Worth Lagoon
            </title>
            <geoform>
              Aerial photography
            </geoform>
          </citeinfo>
        </srccite>
        <srcscale>
          10000
        </srcscale>
        <typesrc>
          True color aerial photography, stereo coverage
        </typesrc>
        <srctime>
          <timeinfo>
            <mdattim>
              <sngdate>
                <caldate>
                  20070620
                </caldate>
                <time>
                  unknown
                </time>
              </sngdate>
              <sngdate>
                <caldate>
                  20070622
                </caldate>
                <time>
                  unknown
                </time>
              </sngdate>
              <sngdate>
                <caldate>
                  20070721
                </caldate>
              </sngdate>
              <sngdate>
                <caldate>
                  20070804
                </caldate>
              </sngdate>
            </mdattim>
          </timeinfo>
          <srccurr>
            calendar date
          </srccurr>
        </srctime>
        <srccitea>
          (none)
        </srccitea>
        <srccontr>
          Photographic signature for interpretation
of seagrass data
        </srccontr>
      </srcinfo>
      <srcinfo>
        <srccite>
          <citeinfo>
            <origin>
              US Imaging
            </origin>
            <pubdate>
              Unknown
            </pubdate>
            <title>
              Loxahatchee River
            </title>
            <geoform>
              Aerial Photography
            </geoform>
          </citeinfo>
        </srccite>
        <srcscale>
          4800
        </srcscale>
        <typesrc>
          True color aerial photography, stereo coverage
        </typesrc>
        <srctime>
          <timeinfo>
            <sngdate>
              <caldate>
                20070701
              </caldate>
              <time>
                unknown
              </time>
            </sngdate>
          </timeinfo>
          <srccurr>
            calendar date
          </srccurr>
        </srctime>
        <srccitea>
          (none)
        </srccitea>
        <srccontr>
          Photographic signature for interpretation
of seagrass data
        </srccontr>
      </srcinfo>
      <srcinfo>
        <srccite>
          <citeinfo>
            <origin>
              US Imaging
            </origin>
            <pubdate>
              Unknown
            </pubdate>
            <title>
              Indian River Lagoon
            </title>
            <geoform>
              Aerial Photography
            </geoform>
          </citeinfo>
        </srccite>
        <srcscale>
          10000
        </srcscale>
        <typesrc>
          True color aerial photography, stereo coverage
        </typesrc>
        <srctime>
          <timeinfo>
            <sngdate>
              <caldate>
                20070808
              </caldate>
              <time>
                unknown
              </time>
            </sngdate>
          </timeinfo>
          <srccurr>
            calendar date
          </srccurr>
        </srctime>
        <srccitea>
          (none)
        </srccitea>
        <srccontr>
          Photographic signature for interpretation
of seagrass data
        </srccontr>
      </srcinfo>
      <procstep>
        <procdesc>
          Ground control points were imported from previous mapping projects.  The ground control points provided the latitude and longitude coordinates for each point.  These items were referenced to identify and transfer the points to the aerial photo layout.    The pixel coordinate values, which are embedded within the digital orthophotographic imagery, were collected for photoidentifiable features on the DOQQ image.  The imagery was then Aerial Triangulated using ImageStation software utilizing the ground control points and DEMs. Once the solution was complete the photograpy was orthorectified in ImageStation OrthoPro software. This software also utilized the ground control and DEMs.  Cloud Cover: minimal
        </procdesc>
        <procdate>
          Unknown
        </procdate>
      </procstep>
      <procstep>
        <procdesc>
          Metadata imported.
        </procdesc>
        <srcused>
          C:\DOCUME~1\jmuller\LOCALS~1\Temp\xml2F4.tmp
        </srcused>
        <procdate>
          Unknown
        </procdate>
      </procstep>
    </lineage>
  </dataqual>
  <spdoinfo>
    <direct>
      Raster
    </direct>
    <rastinfo>
      <rasttype>
        Pixel
      </rasttype>
      <rowcount>
        19399
      </rowcount>
      <colcount>
        19387
      </colcount>
      <vrtcount>
        1
      </vrtcount>
    </rastinfo>
  </spdoinfo>
  <spref>
    <horizsys>
      <planar>
        <mapproj>
          <mapprojn>
            Transverse Mercator
          </mapprojn>
          <transmer>
            <sfctrmer>
              0.999941
            </sfctrmer>
            <longcm>
              -81.000000
            </longcm>
            <latprjo>
              24.333333
            </latprjo>
            <feast>
              656166.666667
            </feast>
            <fnorth>
              0.000000
            </fnorth>
          </transmer>
        </mapproj>
        <planci>
          <plance>
            Row and Column
          </plance>
          <coordrep>
            <absres>
              0.499999
            </absres>
            <ordres>
              0.499999
            </ordres>
          </coordrep>
          <plandu>
            survey feet
          </plandu>
        </planci>
      </planar>
      <geodetic>
        <horizdn>
          D_North_American_1983_HARN
        </horizdn>
        <ellips>
          Geodetic Reference System 80
        </ellips>
        <semiaxis>
          6378137.000000
        </semiaxis>
        <denflat>
          298.257222
        </denflat>
      </geodetic>
    </horizsys>
  </spref>
  <distinfo>
    <distrib>
      <cntinfo>
        <cntorgp>
          <cntorg>
            Palm Beach County- Department of Environmental Resources Management
          </cntorg>
        </cntorgp>
        <cntaddr>
          <addrtype>
            mailing and physical address
          </addrtype>
          <address>
            2300 North Jog Road, 4th Floor
          </address>
          <city>
            West Palm Beach
          </city>
          <state>
            FL
          </state>
          <postal>
            33411-2743
          </postal>
          <country>
            United States
          </country>
        </cntaddr>
        <cntvoice>
          (561) 233-2514
        </cntvoice>
        <cntemail>
          Eanderson1@co.palm-beach.fl.us
        </cntemail>
        <cntinst>
          (contact via e-mail)
        </cntinst>
      </cntinfo>
    </distrib>
    <resdesc>
      Downloadable Data
    </resdesc>
    <distliab>
      This data is provided &quot;as is&quot; without warranty or any representation of accuracy, timeliness or completeness.  The burden for determining accuracy, completeness, timeliness, merchantability and fitness for or the appropriateness for use rests solely on the requester.  The County makes no warranties, express or implied, as to the use of the data.  There are no implied warranties of merchantability or fitness for a particular purpose.  The requester acknowledges and accepts the limitations of the data, including the fact that the data is dynamic and is in a constant state of maintenance, correction and update.
    </distliab>
  </distinfo>
  <metainfo>
    <metd>
      20121220
    </metd>
    <metrd>
      20090424
    </metrd>
    <metc>
      <cntinfo>
        <cntorgp>
          <cntorg>
            Avineon Inc.
          </cntorg>
          <cntper>
            Keith Patterson
          </cntper>
        </cntorgp>
        <cntpos>
          Director- Photogrammetry, Mapping,  GIS
        </cntpos>
        <cntaddr>
          <addrtype>
            mailing and physical address
          </addrtype>
          <address>
            15500 Lightwave Drive, Suite 200
          </address>
          <city>
            Clearwater
          </city>
          <state>
            FL
          </state>
          <postal>
            33760
          </postal>
          <country>
            USA
          </country>
        </cntaddr>
        <cntvoice>
          727-539-1661
        </cntvoice>
        <cntfax>
          727-539-6954
        </cntfax>
        <cntemail>
          kpatterson@avineon.com
        </cntemail>
      </cntinfo>
    </metc>
    <metstdn>
      FGDC Content Standards for Digital Geospatial Metadata
    </metstdn>
    <metstdv>
      FGDC-STD-001-1998
    </metstdv>
    <mettc>
      Local Time
    </mettc>
    <metextns>
      <onlink>
        http://www.esri.com/metadata/esriprof80.html
      </onlink>
      <metprof>
        ESRI Metadata Profile
      </metprof>
    </metextns>
    <metextns>
      <onlink>
        http://www.esri.com/metadata/esriprof80.html
      </onlink>
      <metprof>
        ESRI Metadata Profile
      </metprof>
    </metextns>
  </metainfo>
  <coris>
    <corid>
      20090424072755
    </corid>
    <corchild>
      None
    </corchild>
    <corbegdt>
      20070620
    </corbegdt>
    <corenddt>
      20070808
    </corenddt>
    <cormdlk>
      http://www.coris.noaa.gov/metadata/records/html/nmfs_2007_palm_beach_county_orthorectified_photo_metadata.html
    </cormdlk>
    <cortrkid>
      2687
    </cortrkid>
  </coris>
</metadata>
